BEGIN:VCALENDAR
VERSION:2.0
PRODID:-//RIGHTHERE//CALENDARIZE IT V3.2//EN
BEGIN:VEVENT
UID:2263-events@cable-connections.co.uk
DTSTART:20251124T000000Z
DTEND:20251128T000000Z
DTSTAMP:20250925T154430Z
SUMMARY:EUSR Endorsed LV1 – Service to PVC Mains Jointing Course
URL:https://cable-connections.co.uk/events/eusr-endorsed-lv1-service-to-pvc
 -mains-jointing-course/
ORGANIZER;CN=Training Admin:MAILTO:training@cable-connections.co.uk
LOCATION:PO3 5RJ
END:VEVENT
END:VCALENDAR